Workbook

Sheet Read Me
B2: The Fixed Income Trader: companion workbook
B4: This workbook rebuilds the Thornbury Vale case of The Fixed Income Trader (Julian R. Sterling, 2026) with live formulas.
B5: Blue cells on a light blue background are inputs. Everything else is a formula. Yields and spreads in percent or basis points as labeled; prices in points per 100 of face.
B6: Bonds pay semiannual coupons and are priced on a coupon date (no accrued interest), as in the book.
B7: Inputs: every assumption of the case (curve, bonds, client trade, day two, repo, risk, desk economics, portfolio trade).
B8: Bond Pricing (Chapters 4 and 6): price, DV01 and modified duration of the four Treasuries and the corporate bond; the 10-year note cash flow by cash flow.
B9: Curve and Roll (Chapter 5): slopes, roll-down of the 10-year note, the DV01-neutral 2s10s steepener.
B10: Client Trade (Chapters 7, 8 and 9): the request for quote, the edge, the hedge, day two, the resale, the ticket P&L and the carry.
B11: Risk (Chapter 10): limits, value at risk and stress tests.
B12: Desk P&L (Chapters 12 and 14): the desk's 2025 economics and the portfolio trade.
B13: Checks: the figures printed in the book beside the formulas that produce them. ALL CHECKS OK on the default inputs.
B14: Everything in the case is fictional and illustrative: the market levels are teaching assumptions, not the market on any date. Nothing here is investment, trading, legal, tax or accounting advice. No macro, no circular reference, no external link.

Sheet Inputs
B2: Inputs (blue cells)
B4: Assumption | C4: Value | D4: Note
B5: Curve (par yields, percent)
B6: 2-year Treasury yield | C6: 3.9
B7: 5-year Treasury yield | C7: 3.95
B8: 7-year Treasury yield | C8: 4.1
B9: 10-year Treasury yield | C9: 4.25
B10: 30-year Treasury yield | C10: 4.7
B11: Treasury coupons (percent)
B12: 2-year note coupon | C12: 3.875
B13: 7-year note coupon | C13: 4
B14: 10-year note coupon | C14: 4.25
B15: 30-year bond coupon | C15: 4.625
B16: Corporate bond
B17: Coupon (percent) | C17: 5
B18: Maturity (years) | C18: 7
B19: Mid spread over the 7-year Treasury (bp) | C19: 105
B20: Desk bid spread (bp) | C20: 110
B21: Client trade
B22: Client sale ($ million face) | C22: 20
B23: Day two: change in Treasury yields (bp) | C23: -8
B24: Day two: change in the bond's spread (bp) | C24: 3
B25: Resale size ($ million face) | C25: 10
B26: Resale spread (bp) | C26: 107
B27: Funding (overnight repo, percent)
B28: Repo rate paid on the corporate bond | C28: 4.45
B29: Repo rate earned on the short Treasury | C29: 4.3
B30: Risk
B31: Net DV01 limit ($ per bp) | C31: 250000
B32: CS01 limit ($ per bp) | C32: 150000
B33: Book net DV01 before the trade ($ per bp) | C33: 180000
B34: Book CS01 before the trade ($ per bp) | C34: 95000
B35: Daily yield volatility (bp) | C35: 6
B36: 99 percent one-tailed z-score | C36: 2.33
B37: Rates stress (bp, parallel rise) | C37: 100
B38: Spread stress (bp, widening) | C38: 50
B39: Desk economics 2025
B40: Requests for quote a day | C40: 600
B41: Hit ratio | C41: 0.14
B42: Average ticket ($ million) | C42: 2.5
...

Sheet Bond Pricing
B2: Bond Pricing: price, DV01, duration
B4: Bond | C4: Coupon (%) | D4: Yield (%) | E4: Years | F4: Price (per 100) | G4: DV01 (per 100) | H4: DV01 ($ per $1m) | I4: Mod. duration
B5: 2-year note | C5: =Inputs!$C$12 | D5: =Inputs!$C$6 | E5: 2 | F5: =((C5)/2)/((D5)/200)*(1-(1+(D5)/200)^(-2*(E5)))+100*(1+(D5)/200)^(-2*(E5)) | G5: =(((C5)/2)/((D5-0.01)/200)*(1-(1+(D5-0.01)/200)^(-2*(E5)))+100*(1+(D5-0.01)/200)^(-2*(E5))-(((C5)/2)/((D5+0.01)/200)*(1-(1+(D5+0.01)/200)^(-2*(E5)))+100*(1+(D5+0.01)/200)^(-2*(E5))))/2 | H5: =G5*10000 | I5: =G5/F5*10000
B6: 7-year note | C6: =Inputs!$C$13 | D6: =Inputs!$C$8 | E6: 7 | F6: =((C6)/2)/((D6)/200)*(1-(1+(D6)/200)^(-2*(E6)))+100*(1+(D6)/200)^(-2*(E6)) | G6: =(((C6)/2)/((D6-0.01)/200)*(1-(1+(D6-0.01)/200)^(-2*(E6)))+100*(1+(D6-0.01)/200)^(-2*(E6))-(((C6)/2)/((D6+0.01)/200)*(1-(1+(D6+0.01)/200)^(-2*(E6)))+100*(1+(D6+0.01)/200)^(-2*(E6))))/2 | H6: =G6*10000 | I6: =G6/F6*10000
B7: 10-year note | C7: =Inputs!$C$14 | D7: =Inputs!$C$9 | E7: 10 | F7: =((C7)/2)/((D7)/200)*(1-(1+(D7)/200)^(-2*(E7)))+100*(1+(D7)/200)^(-2*(E7)) | G7: =(((C7)/2)/((D7-0.01)/200)*(1-(1+(D7-0.01)/200)^(-2*(E7)))+100*(1+(D7-0.01)/200)^(-2*(E7))-(((C7)/2)/((D7+0.01)/200)*(1-(1+(D7+0.01)/200)^(-2*(E7)))+100*(1+(D7+0.01)/200)^(-2*(E7))))/2 | H7: =G7*10000 | I7: =G7/F7*10000
B8: 30-year bond | C8: =Inputs!$C$15 | D8: =Inputs!$C$10 | E8: 30 | F8: =((C8)/2)/((D8)/200)*(1-(1+(D8)/200)^(-2*(E8)))+100*(1+(D8)/200)^(-2*(E8)) | G8: =(((C8)/2)/((D8-0.01)/200)*(1-(1+(D8-0.01)/200)^(-2*(E8)))+100*(1+(D8-0.01)/200)^(-2*(E8))-(((C8)/2)/((D8+0.01)/200)*(1-(1+(D8+0.01)/200)^(-2*(E8)))+100*(1+(D8+0.01)/200)^(-2*(E8))))/2 | H8: =G8*10000 | I8: =G8/F8*10000
B9: Corporate bond at mid | C9: =Inputs!$C$17 | D9: =Inputs!$C$8+Inputs!$C$19/100 | E9: =Inputs!$C$18 | F9: =((C9)/2)/((D9)/200)*(1-(1+(D9)/200)^(-2*(E9)))+100*(1+(D9)/200)^(-2*(E9)) | G9: =(((C9)/2)/((D9-0.01)/200)*(1-(1+(D9-0.01)/200)^(-2*(E9)))+100*(1+(D9-0.01)/200)^(-2*(E9))-(((C9)/2)/((D9+0.01)/200)*(1-(1+(D9+0.01)/200)^(-2*(E9)))+100*(1+(D9+0.01)/200)^(-2*(E9))))/2 | H9: =G9*10000 | I9: =G9/F9*10000
B10: Corporate bond at the desk bid | C10: =Inputs!$C$17 | D10: =Inputs!$C$8+Inputs!$C$20/100 | E10: =Inputs!$C$18 | F10: =((C10)/2)/((D10)/200)*(1-(1+(D10)/200)^(-2*(E10)))+100*(1+(D10)/200)^(-2*(E10)) | G10: =(((C10)/2)/((D10-0.01)/200)*(1-(1+(D10-0.01)/200)^(-2*(E10)))+100*(1+(D10-0.01)/200)^(-2*(E10))-(((C10)/2)/((D10+0.01)/200)*(1-(1+(D10+0.01)/200)^(-2*(E10)))+100*(1+(D10+0.01)/200)^(-2*(E10))))/2 | H10: =G10*10000 | I10: =G10/F10*10000
B13: 10-year note: yield shocks
B14: Shock (bp) | C14: Yield (%) | D14: Price | E14: Change (points)
B15: -100 | C15: =Inputs!$C$9+B15/100 | D15: =((Inputs!$C$14)/2)/((C15)/200)*(1-(1+(C15)/200)^(-2*(10)))+100*(1+(C15)/200)^(-2*(10)) | E15: =D15-F7
B16: -10 | C16: =Inputs!$C$9+B16/100 | D16: =((Inputs!$C$14)/2)/((C16)/200)*(1-(1+(C16)/200)^(-2*(10)))+100*(1+(C16)/200)^(-2*(10)) | E16: =D16-F7
B17: 10 | C17: =Inputs!$C$9+B17/100 | D17: =((Inputs!$C$14)/2)/((C17)/200)*(1-(1+(C17)/200)^(-2*(10)))+100*(1+(C17)/200)^(-2*(10)) | E17: =D17-F7
B18: 100 | C18: =Inputs!$C$9+B18/100 | D18: =((Inputs!$C$14)/2)/((C18)/200)*(1-(1+(C18)/200)^(-2*(10)))+100*(1+(C18)/200)^(-2*(10)) | E18: =D18-F7
B20: 10-year note, cash flow by cash flow (per 100 face)
B21: Period (half-years) | C21: Cash flow | D21: Discount factor | E21: Present value
B22: 1 | C22: =Inputs!$C$14/2+IF(B22=20,100,0) | D22: =(1+Inputs!$C$9/200)^(-B22) | E22: =C22*D22
B23: 2 | C23: =Inputs!$C$14/2+IF(B23=20,100,0) | D23: =(1+Inputs!$C$9/200)^(-B23) | E23: =C23*D23
B24: 3 | C24: =Inputs!$C$14/2+IF(B24=20,100,0) | D24: =(1+Inputs!$C$9/200)^(-B24) | E24: =C24*D24
B25: 4 | C25: =Inputs!$C$14/2+IF(B25=20,100,0) | D25: =(1+Inputs!$C$9/200)^(-B25) | E25: =C25*D25
B26: 5 | C26: =Inputs!$C$14/2+IF(B26=20,100,0) | D26: =(1+Inputs!$C$9/200)^(-B26) | E26: =C26*D26
B27: 6 | C27: =Inputs!$C$14/2+IF(B27=20,100,0) | D27: =(1+Inputs!$C$9/200)^(-B27) | E27: =C27*D27
B28: 7 | C28: =Inputs!$C$14/2+IF(B28=20,100,0) | D28: =(1+Inputs!$C$9/200)^(-B28) | E28: =C28*D28
B29: 8 | C29: =Inputs!$C$14/2+IF(B29=20,100,0) | D29: =(1+Inputs!$C$9/200)^(-B29) | E29: =C29*D29
B30: 9 | C30: =Inputs!$C$14/2+IF(B30=20,100,0) | D30: =(1+Inputs!$C$9/200)^(-B30) | E30: =C30*D30
B31: 10 | C31: =Inputs!$C$14/2+IF(B31=20,100,0) | D31: =(1+Inputs!$C$9/200)^(-B31) | E31: =C31*D31
B32: 11 | C32: =Inputs!$C$14/2+IF(B32=20,100,0) | D32: =(1+Inputs!$C$9/200)^(-B32) | E32: =C32*D32
B33: 12 | C33: =Inputs!$C$14/2+IF(B33=20,100,0) | D33: =(1+Inputs!$C$9/200)^(-B33) | E33: =C33*D33
... B41: 20 | C41: =Inputs!$C$14/2+IF(B41=20,100,0) | D41: =(1+Inputs!$C$9/200)^(-B41) | E41: =C41*D41
B42: Sum = price | E42: =SUM(E22:E41)

Sheet Curve and Roll
B2: Curve, roll-down and the 2s10s steepener
B5: 2s10s slope (bp) | C5: =(Inputs!$C$9-Inputs!$C$6)*100
B6: 2s5s slope (bp) | C6: =(Inputs!$C$7-Inputs!$C$6)*100
B7: 5s30s slope (bp) | C7: =(Inputs!$C$10-Inputs!$C$7)*100
B8: Interpolated 9-year yield (%) | C8: =Inputs!$C$8+(Inputs!$C$9-Inputs!$C$8)*(9-7)/(10-7)
B9: Roll-down of the 10-year over one year (bp) | C9: =(Inputs!$C$9-C8)*100
B10: 9-year bond at the 10-year yield (price) | C10: =((Inputs!$C$14)/2)/((Inputs!$C$9)/200)*(1-(1+(Inputs!$C$9)/200)^(-2*(9)))+100*(1+(Inputs!$C$9)/200)^(-2*(9))
B11: 9-year bond at the 9-year yield (price) | C11: =((Inputs!$C$14)/2)/((C8)/200)*(1-(1+(C8)/200)^(-2*(9)))+100*(1+(C8)/200)^(-2*(9))
B12: Roll-down value (points) | C12: =C11-C10
B13: Roll-down value ($ per $1 million) | C13: =C12*10000
B14: Steepener: 10-year sold ($ million) | C14: 10
B15: Steepener: 2-year bought ($ million), DV01-neutral | C15: =C14*'Bond Pricing'!H7/'Bond Pricing'!H5
B16: DV01 of each leg ($ per bp) | C16: =C14*'Bond Pricing'!H7
B17: P&L if the curve steepens 10 bp ($) | C17: =C16*10

Sheet Client Trade
B2: The client trade: RFQ, hedge, day two, resale, carry
B5: Mid yield of the bond (%) | C5: =Inputs!$C$8+Inputs!$C$19/100
B6: Mid price | C6: ='Bond Pricing'!F9
B7: Bid yield (%) | C7: =Inputs!$C$8+Inputs!$C$20/100
B8: Bid price (the desk buys) | C8: ='Bond Pricing'!F10
B9: Edge against mid (points) | C9: =C6-C8
B10: Edge ($), day-one P&L | C10: =C9/100*Inputs!$C$22*1000000
B11: DV01 of the bond ($ per $1m) | C11: ='Bond Pricing'!H10
B12: DV01 and CS01 of the trade ($ per bp) | C12: =C11*Inputs!$C$22
B13: DV01 of the 7-year Treasury ($ per $1m) | C13: ='Bond Pricing'!H6
B14: Hedge: 7-year Treasury sold ($ million face) | C14: =C12/C13
B15: Hedge ratio | C15: =C14/Inputs!$C$22
B16: Day two: new mid yield (%) | C16: =Inputs!$C$8+Inputs!$C$23/100+(Inputs!$C$19+Inputs!$C$24)/100
B17: Day two: new mid price | C17: =((Inputs!$C$17)/2)/((C16)/200)*(1-(1+(C16)/200)^(-2*(Inputs!$C$18)))+100*(1+(C16)/200)^(-2*(Inputs!$C$18))
B18: Day two: P&L on the long bond ($) | C18: =(C17-C6)/100*Inputs!$C$22*1000000
B19: Day two: 7-year Treasury price before | C19: =((Inputs!$C$13)/2)/((Inputs!$C$8)/200)*(1-(1+(Inputs!$C$8)/200)^(-2*(7)))+100*(1+(Inputs!$C$8)/200)^(-2*(7))
B20: Day two: 7-year Treasury price after | C20: =((Inputs!$C$13)/2)/((Inputs!$C$8+Inputs!$C$23/100)/200)*(1-(1+(Inputs!$C$8+Inputs!$C$23/100)/200)^(-2*(7)))+100*(1+(Inputs!$C$8+Inputs!$C$23/100)/200)^(-2*(7))
B21: Day two: P&L on the short hedge ($) | C21: =-(C20-C19)/100*C14*1000000
B22: Day two: net P&L ($) | C22: =C18+C21
B23: Day two: spread move times CS01 ($) | C23: =-C12*Inputs!$C$24
B24: Resale yield (%) | C24: =Inputs!$C$8+Inputs!$C$23/100+Inputs!$C$26/100
B25: Resale price | C25: =((Inputs!$C$17)/2)/((C24)/200)*(1-(1+(C24)/200)^(-2*(Inputs!$C$18)))+100*(1+(C24)/200)^(-2*(Inputs!$C$18))
B26: Resale above the new mid ($) | C26: =(C25-C17)/100*Inputs!$C$25*1000000
B27: Ticket P&L after two days ($) | C27: =C10+C22+C26
B28: Carry of the long bond a day ($) | C28: =Inputs!$C$22*1000000*(C7-Inputs!$C$28)/100/360
B29: Carry of the short hedge a day ($) | C29: =-C14*1000000*(Inputs!$C$8-Inputs!$C$29)/100/360
B30: Net carry a day ($) | C30: =C28+C29
B31: Net carry over 30 days ($) | C31: =C30*30

Sheet Risk
B2: Risk: limits, value at risk, stress
B5: Net DV01 limit ($ per bp) | C5: =Inputs!$C$31
B6: CS01 limit ($ per bp) | C6: =Inputs!$C$32
B7: Book DV01 after the hedged trade ($ per bp) | C7: =Inputs!$C$33
B8: Book DV01 had the trade not been hedged ($ per bp) | C8: =Inputs!$C$33+'Client Trade'!C12
B9: Book CS01 after the trade ($ per bp) | C9: =Inputs!$C$34+'Client Trade'!C12
B10: DV01 headroom ($ per bp) | C10: =C5-C7
B11: CS01 headroom ($ per bp) | C11: =C6-C9
B12: One-day 99 percent VaR on the rates position ($) | C12: =Inputs!$C$36*Inputs!$C$35*Inputs!$C$33
B13: Rates stress ($ loss) | C13: =Inputs!$C$33*Inputs!$C$37
B14: Spread stress ($ loss) | C14: =Inputs!$C$34*Inputs!$C$38
B15: DV01 limit utilization after the trade | C15: =C7/C5
B16: CS01 limit utilization after the trade | C16: =C9/C6

Sheet Desk P&L
B2: Desk economics 2025 and the portfolio trade
B5: Client trades a day | C5: =Inputs!$C$40*Inputs!$C$41
B6: Client volume ($ billion) | C6: =C5*Inputs!$C$42*Inputs!$C$43/1000
B7: Flow revenue ($ million) | C7: =C6*1000*Inputs!$C$44/100
B8: Risk management P&L ($ million) | C8: =Inputs!$C$45
B9: Portfolio trading ($ million) | C9: =Inputs!$C$46
B10: Net carry ($ million) | C10: =Inputs!$C$47
B11: Total revenue ($ million) | C11: =SUM(C7:C10)
B12: Direct costs ($ million) | C12: =Inputs!$C$48
B13: Contribution ($ million) | C13: =C11-C12
B14: Return on allocated capital, before tax | C14: =C13/Inputs!$C$49
B15: Revenue per head ($ million) | C15: =C11/Inputs!$C$50
B16: Portfolio trade: gross margin ($ million) | C16: =Inputs!$C$52*Inputs!$C$54/100
B17: Portfolio trade: expected unwind cost ($ million) | C17: =Inputs!$C$52*Inputs!$C$55/100
B18: Portfolio trade: expected net ($ million) | C18: =C16-C17

Sheet Checks
B2: Checks: the book's figures against the workbook
B4: Figure printed in the book | C4: Book | D4: Workbook | E4: Tolerance | F4: Status
B5: 10-year note price | C5: 100 | D5: ='Bond Pricing'!F7 | E5: 0.005 | F5: =IF(ABS(D5-C5)<=E5,"OK","CHECK")
B6: 10-year DV01, $ per $1 million | C6: 808 | D6: ='Bond Pricing'!H7 | E6: 0.5 | F6: =IF(ABS(D6-C6)<=E6,"OK","CHECK")
B7: 10-year modified duration | C7: 8.08 | D7: ='Bond Pricing'!I7 | E7: 0.005 | F7: =IF(ABS(D7-C7)<=E7,"OK","CHECK")
B8: 10-year price, yield up 100 bp | C8: 92.3 | D8: ='Bond Pricing'!D18 | E8: 0.005 | F8: =IF(ABS(D8-C8)<=E8,"OK","CHECK")
B9: 10-year price, yield down 100 bp | C9: 108.48 | D9: ='Bond Pricing'!D15 | E9: 0.005 | F9: =IF(ABS(D9-C9)<=E9,"OK","CHECK")
B10: 10-year price from the cash flows | C10: 100 | D10: ='Bond Pricing'!E42 | E10: 0.005 | F10: =IF(ABS(D10-C10)<=E10,"OK","CHECK")
B11: 2-year DV01, $ per $1 million | C11: 191 | D11: ='Bond Pricing'!H5 | E11: 0.5 | F11: =IF(ABS(D11-C11)<=E11,"OK","CHECK")
B12: 7-year DV01, $ per $1 million | C12: 601 | D12: ='Bond Pricing'!H6 | E12: 0.5 | F12: =IF(ABS(D12-C12)<=E12,"OK","CHECK")
B13: 30-year DV01, $ per $1 million | C13: 1586 | D13: ='Bond Pricing'!H8 | E13: 0.5 | F13: =IF(ABS(D13-C13)<=E13,"OK","CHECK")
B14: 2s10s slope, bp | C14: 35 | D14: ='Curve and Roll'!C5 | E14: 0.01 | F14: =IF(ABS(D14-C14)<=E14,"OK","CHECK")
B15: Roll-down value, points | C15: 0.37 | D15: ='Curve and Roll'!C12 | E15: 0.005 | F15: =IF(ABS(D15-C15)<=E15,"OK","CHECK")
B16: Steepener: 2-year bought, $ million | C16: 42.4 | D16: ='Curve and Roll'!C15 | E16: 0.05 | F16: =IF(ABS(D16-C16)<=E16,"OK","CHECK")
B17: Steepener: P&L on 10 bp, $ | C17: 80779 | D17: ='Curve and Roll'!C17 | E17: 0.5 | F17: =IF(ABS(D17-C17)<=E17,"OK","CHECK")
B18: Corporate bond mid price | C18: 99.13 | D18: ='Client Trade'!C6 | E18: 0.005 | F18: =IF(ABS(D18-C18)<=E18,"OK","CHECK")
B19: Corporate bond bid price | C19: 98.84 | D19: ='Client Trade'!C8 | E19: 0.005 | F19: =IF(ABS(D19-C19)<=E19,"OK","CHECK")
B20: Edge, $ | C20: 57751 | D20: ='Client Trade'!C10 | E20: 0.5 | F20: =IF(ABS(D20-C20)<=E20,"OK","CHECK")
B21: Trade DV01 and CS01, $ per bp | C21: 11530 | D21: ='Client Trade'!C12 | E21: 0.5 | F21: =IF(ABS(D21-C21)<=E21,"OK","CHECK")
B22: Hedge, $ million face | C22: 19.2 | D22: ='Client Trade'!C14 | E22: 0.05 | F22: =IF(ABS(D22-C22)<=E22,"OK","CHECK")
B23: Hedge ratio | C23: 0.96 | D23: ='Client Trade'!C15 | E23: 0.005 | F23: =IF(ABS(D23-C23)<=E23,"OK","CHECK")
B24: Day two net P&L, $ | C24: -34551 | D24: ='Client Trade'!C22 | E24: 0.5 | F24: =IF(ABS(D24-C24)<=E24,"OK","CHECK")
B25: Resale above mid, $ | C25: 5807 | D25: ='Client Trade'!C26 | E25: 0.5 | F25: =IF(ABS(D25-C25)<=E25,"OK","CHECK")
B26: Ticket P&L, $ | C26: 29007 | D26: ='Client Trade'!C27 | E26: 0.5 | F26: =IF(ABS(D26-C26)<=E26,"OK","CHECK")
B27: Net carry a day, $ | C27: 523 | D27: ='Client Trade'!C30 | E27: 0.5 | F27: =IF(ABS(D27-C27)<=E27,"OK","CHECK")
B28: Net carry over 30 days, $ | C28: 15697 | D28: ='Client Trade'!C31 | E28: 0.5 | F28: =IF(ABS(D28-C28)<=E28,"OK","CHECK")
B29: CS01 after the trade, $ per bp | C29: 106530 | D29: =Risk!C9 | E29: 0.5 | F29: =IF(ABS(D29-C29)<=E29,"OK","CHECK")
B30: VaR, $ | C30: 2516400 | D30: =Risk!C12 | E30: 0.5 | F30: =IF(ABS(D30-C30)<=E30,"OK","CHECK")
B31: Rates stress, $ | C31: 18000000 | D31: =Risk!C13 | E31: 0.5 | F31: =IF(ABS(D31-C31)<=E31,"OK","CHECK")
B32: Spread stress, $ | C32: 4750000 | D32: =Risk!C14 | E32: 0.5 | F32: =IF(ABS(D32-C32)<=E32,"OK","CHECK")
B33: Client volume, $ billion | C33: 52.5 | D33: ='Desk P&L'!C6 | E33: 0.05 | F33: =IF(ABS(D33-C33)<=E33,"OK","CHECK")
B34: Flow revenue, $ million | C34: 47.25 | D34: ='Desk P&L'!C7 | E34: 0.005 | F34: =IF(ABS(D34-C34)<=E34,"OK","CHECK")
B35: Total revenue, $ million | C35: 66.25 | D35: ='Desk P&L'!C11 | E35: 0.005 | F35: =IF(ABS(D35-C35)<=E35,"OK","CHECK")
B36: Contribution, $ million | C36: 39.25 | D36: ='Desk P&L'!C13 | E36: 0.005 | F36: =IF(ABS(D36-C36)<=E36,"OK","CHECK")
B37: Return on capital | C37: 0.26 | D37: ='Desk P&L'!C14 | E37: 0.005 | F37: =IF(ABS(D37-C37)<=E37,"OK","CHECK")
B38: Portfolio trade net, $ million | C38: 0.325 | D38: ='Desk P&L'!C18 | E38: 0.0005 | F38: =IF(ABS(D38-C38)<=E38,"OK","CHECK")
B39: Hedge ratio equals bond DV01 / Treasury DV01 (difference) | C39: 0 | D39: ='Client Trade'!C15-'Client Trade'!C11/'Client Trade'!C13 | E39: 1e-06 | F39: =IF(ABS(D39-C39)<=E39,"OK","CHECK")
B40: Steepener legs carry equal DV01 (difference, $) | C40: 0 | D40: ='Curve and Roll'!C15*'Bond Pricing'!H5-'Curve and Roll'!C16 | E40: 0.001 | F40: =IF(ABS(D40-C40)<=E40,"OK","CHECK")
B41: DV01 headroom, $ per bp | C41: 70000 | D41: =Risk!C10 | E41: 0.5 | F41: =IF(ABS(D41-C41)<=E41,"OK","CHECK")
B42: CS01 headroom after the trade, $ per bp | C42: 43470 | D42: =Risk!C11 | E42: 0.5 | F42: =IF(ABS(D42-C42)<=E42,"OK","CHECK")
...
